BEGIN:VCALENDAR
VERSION:2.0
PRODID:-//Build your Monarchy - ECPv6.15.3//NONSGML v1.0//EN
CALSCALE:GREGORIAN
METHOD:PUBLISH
X-ORIGINAL-URL:https://buildyourmonarchy.com
X-WR-CALDESC:Events for Build your Monarchy
REFRESH-INTERVAL;VALUE=DURATION:PT1H
X-Robots-Tag:noindex
X-PUBLISHED-TTL:PT1H
BEGIN:VTIMEZONE
TZID:UTC
BEGIN:STANDARD
TZOFFSETFROM:+0000
TZOFFSETTO:+0000
TZNAME:UTC
DTSTART:20180101T000000
END:STANDARD
END:VTIMEZONE
BEGIN:VEVENT
DTSTART;VALUE=DATE:20180726
DTEND;VALUE=DATE:20180727
DTSTAMP:20260423T173522
CREATED:20180626T175811Z
LAST-MODIFIED:20180626T180124Z
UID:2139-1532563200-1532649599@buildyourmonarchy.com
SUMMARY:First public railway opens in 1803
DESCRIPTION:George III was King and it was the start of the industrial revolution. \nThink somone else might like this? click share
URL:https://buildyourmonarchy.com/event/first-public-railway-open-in1803/
END:VEVENT
BEGIN:VEVENT
DTSTART;VALUE=DATE:20180720
DTEND;VALUE=DATE:20180721
DTSTAMP:20260423T173522
CREATED:20180706T191225Z
LAST-MODIFIED:20180706T191225Z
UID:2226-1532044800-1532131199@buildyourmonarchy.com
SUMMARY:First moon landing 1969
DESCRIPTION:Neil Armstrong and Buzz Aldrin walk on the moon \nThink somone else might like this? click share
URL:https://buildyourmonarchy.com/event/first-moon-landing-1969/
CATEGORIES:Modern Times
END:VEVENT
BEGIN:VEVENT
DTSTART;VALUE=DATE:20180712
DTEND;VALUE=DATE:20180713
DTSTAMP:20260423T173522
CREATED:20190706T190736Z
LAST-MODIFIED:20190924T104655Z
UID:2223-1531353600-1531439999@buildyourmonarchy.com
SUMMARY:Habeas Corpus Act ratified 1679
DESCRIPTION:Charles II made a law that meant the court could examine why prisoners were imprisoned and make sure it was fair. \nThink somone else might like this? click share
URL:https://buildyourmonarchy.com/event/habeaus-corpus-act-ratified-1679/
END:VEVENT
BEGIN:VEVENT
DTSTART;VALUE=DATE:20180706
DTEND;VALUE=DATE:20180707
DTSTAMP:20260423T173522
CREATED:20190706T185951Z
LAST-MODIFIED:20190924T104633Z
UID:2221-1530835200-1530921599@buildyourmonarchy.com
SUMMARY:Richard I -  The Lionheart crowned King of England 1189
DESCRIPTION:Although he never really spent much time in England he was too busy fighting the Holy wars \nThink somone else might like this? click share
URL:https://buildyourmonarchy.com/event/richard-i-the-lionheart-crowned-king-of-england-1189/
CATEGORIES:Early Middle Ages
END:VEVENT
BEGIN:VEVENT
DTSTART;VALUE=DATE:20180705
DTEND;VALUE=DATE:20180706
DTSTAMP:20260423T173522
CREATED:20190706T184140Z
LAST-MODIFIED:20190924T104624Z
UID:2219-1530748800-1530835199@buildyourmonarchy.com
SUMMARY:NHS was born in 1948
DESCRIPTION:The government decided to make a health service that was available to all and funded by tax. This is why you can go to see a doctor or go to hospital for free. In the past you could go if you were rich and if you were poor you might not be able to afford it\, or if you could it might use up all your money. Aneurin Bevan launched the first hospital in Manchester. \n  \nThink somone else might like this? click share
URL:https://buildyourmonarchy.com/event/nhs-was-born-in-1948/
CATEGORIES:Early 20th Century
END:VEVENT
BEGIN:VEVENT
DTSTART;VALUE=DATE:20180704
DTEND;VALUE=DATE:20180705
DTSTAMP:20260423T173522
CREATED:20190710T113619Z
LAST-MODIFIED:20190924T104616Z
UID:2232-1530662400-1530748799@buildyourmonarchy.com
SUMMARY:End of food Rationing 1954
DESCRIPTION:Food rationing began in 1940 four months after the start of war and finished almost 9 years after the end of war in 1954 \nThink somone else might like this? click share
URL:https://buildyourmonarchy.com/event/end-of-food-rationing-1954/
CATEGORIES:Modern Times
END:VEVENT
BEGIN:VEVENT
DTSTART;TZID=UTC:20180626T080000
DTEND;TZID=UTC:20180626T170000
DTSTAMP:20260423T173522
CREATED:20190626T201816Z
LAST-MODIFIED:20190924T104608Z
UID:2150-1530000000-1530032400@buildyourmonarchy.com
SUMMARY:King John seals the Magna Carta at Runnymede in 1215
DESCRIPTION:Think somone else might like this? click share
URL:https://buildyourmonarchy.com/event/king-john-seals-the-magna-carta-at-runnymede-in-1215/
CATEGORIES:Early Middle Ages
END:VEVENT
BEGIN:VEVENT
DTSTART;VALUE=DATE:20180602
DTEND;VALUE=DATE:20180603
DTSTAMP:20260423T173522
CREATED:20190710T214321Z
LAST-MODIFIED:20190924T104553Z
UID:2260-1527897600-1527983999@buildyourmonarchy.com
SUMMARY:Queen Elizabeth II crowned 1953
DESCRIPTION:Think somone else might like this? click share
URL:https://buildyourmonarchy.com/event/queen-elizabeth-ii-crowned-1953/
CATEGORIES:Modern Times
END:VEVENT
END:VCALENDAR