BEGIN:VCALENDAR
VERSION:2.0
PRODID:-//Build your Monarchy - ECPv6.15.3//NONSGML v1.0//EN
CALSCALE:GREGORIAN
METHOD:PUBLISH
X-WR-CALNAME:Build your Monarchy
X-ORIGINAL-URL:https://buildyourmonarchy.com
X-WR-CALDESC:Events for Build your Monarchy
REFRESH-INTERVAL;VALUE=DURATION:PT1H
X-Robots-Tag:noindex
X-PUBLISHED-TTL:PT1H
BEGIN:VTIMEZONE
TZID:UTC
BEGIN:STANDARD
TZOFFSETFROM:+0000
TZOFFSETTO:+0000
TZNAME:UTC
DTSTART:20180101T000000
END:STANDARD
END:VTIMEZONE
BEGIN:VEVENT
DTSTART;VALUE=DATE:20181206
DTEND;VALUE=DATE:20181207
DTSTAMP:20260423T203106
CREATED:20191020T161455Z
LAST-MODIFIED:20190924T105004Z
UID:2341-1544054400-1544140799@buildyourmonarchy.com
SUMMARY:Henry VI born 1421
DESCRIPTION:At 9 months Henry VI was made King Of England (the youngest monarch ever to be crowned in England). \nThink somone else might like this? click share
URL:https://buildyourmonarchy.com/event/henry-vi-born-1421/
CATEGORIES:Late Middle Ages
END:VEVENT
END:VCALENDAR