BEGIN:VCALENDAR
VERSION:2.0
PRODID:-//Build your Monarchy - ECPv6.15.3//NONSGML v1.0//EN
CALSCALE:GREGORIAN
METHOD:PUBLISH
X-WR-CALNAME:Build your Monarchy
X-ORIGINAL-URL:https://buildyourmonarchy.com
X-WR-CALDESC:Events for Build your Monarchy
REFRESH-INTERVAL;VALUE=DURATION:PT1H
X-Robots-Tag:noindex
X-PUBLISHED-TTL:PT1H
BEGIN:VTIMEZONE
TZID:UTC
BEGIN:STANDARD
TZOFFSETFROM:+0000
TZOFFSETTO:+0000
TZNAME:UTC
DTSTART:20180101T000000
END:STANDARD
END:VTIMEZONE
BEGIN:VEVENT
DTSTART;VALUE=DATE:20180706
DTEND;VALUE=DATE:20180707
DTSTAMP:20260423T215424
CREATED:20190706T185951Z
LAST-MODIFIED:20190924T104633Z
UID:2221-1530835200-1530921599@buildyourmonarchy.com
SUMMARY:Richard I -  The Lionheart crowned King of England 1189
DESCRIPTION:Although he never really spent much time in England he was too busy fighting the Holy wars \nThink somone else might like this? click share
URL:https://buildyourmonarchy.com/event/richard-i-the-lionheart-crowned-king-of-england-1189/
CATEGORIES:Early Middle Ages
END:VEVENT
BEGIN:VEVENT
DTSTART;TZID=UTC:20180626T080000
DTEND;TZID=UTC:20180626T170000
DTSTAMP:20260423T215424
CREATED:20190626T201816Z
LAST-MODIFIED:20190924T104608Z
UID:2150-1530000000-1530032400@buildyourmonarchy.com
SUMMARY:King John seals the Magna Carta at Runnymede in 1215
DESCRIPTION:Think somone else might like this? click share
URL:https://buildyourmonarchy.com/event/king-john-seals-the-magna-carta-at-runnymede-in-1215/
CATEGORIES:Early Middle Ages
END:VEVENT
END:VCALENDAR